BEGIN:VCALENDAR
VERSION:2.0
PRODID:-//Programa Distrital de Gestión Cultural Comunitaria - ECPv6.1.2.2//NONSGML v1.0//EN
CALSCALE:GREGORIAN
METHOD:PUBLISH
X-WR-CALNAME:Programa Distrital de Gestión Cultural Comunitaria
X-ORIGINAL-URL:https://programadistritaldegestionculturalcomunitaria.com
X-WR-CALDESC:Eventos para Programa Distrital de Gestión Cultural Comunitaria
REFRESH-INTERVAL;VALUE=DURATION:PT1H
X-Robots-Tag:noindex
X-PUBLISHED-TTL:PT1H
BEGIN:VTIMEZONE
TZID:America/New_York
BEGIN:DAYLIGHT
TZOFFSETFROM:-0500
TZOFFSETTO:-0400
TZNAME:EDT
DTSTART:20230312T070000
END:DAYLIGHT
BEGIN:STANDARD
TZOFFSETFROM:-0400
TZOFFSETTO:-0500
TZNAME:EST
DTSTART:20231105T060000
END:STANDARD
END:VTIMEZONE
BEGIN:VEVENT
DTSTART;TZID=America/New_York:20230930T170000
DTEND;TZID=America/New_York:20230930T190000
DTSTAMP:20260425T063052
CREATED:20230914T215301Z
LAST-MODIFIED:20230914T215301Z
UID:7794-1696093200-1696100400@programadistritaldegestionculturalcomunitaria.com
SUMMARY:Varieté en San José de Monjas
DESCRIPTION:
URL:https://programadistritaldegestionculturalcomunitaria.com/event/variete-en-san-jose-de-monjas-2/
LOCATION:Parque Punto Segurio La Planada\, QG95+H4G\, Calle La\, Manuel Ruales\, Quito 170404\, Quito\, Pichincha\, Ecuador
CATEGORIES:Agenda,Circulación Cultural,Manuela Sáenz
ATTACH;FMTTYPE=image/jpeg:https://programadistritaldegestionculturalcomunitaria.com/wp-content/uploads/2023/09/WhatsApp-Image-2023-09-14-at-3.25.27-PM.jpeg
END:VEVENT
END:VCALENDAR