BEGIN:VCALENDAR
VERSION:2.0
PRODID:-//Programa Distrital de Gestión Cultural Comunitaria - ECPv6.1.2.2//NONSGML v1.0//EN
CALSCALE:GREGORIAN
METHOD:PUBLISH
X-ORIGINAL-URL:https://programadistritaldegestionculturalcomunitaria.com
X-WR-CALDESC:Eventos para Programa Distrital de Gestión Cultural Comunitaria
REFRESH-INTERVAL;VALUE=DURATION:PT1H
X-Robots-Tag:noindex
X-PUBLISHED-TTL:PT1H
BEGIN:VTIMEZONE
TZID:America/New_York
BEGIN:DAYLIGHT
TZOFFSETFROM:-0500
TZOFFSETTO:-0400
TZNAME:EDT
DTSTART:20230312T070000
END:DAYLIGHT
BEGIN:STANDARD
TZOFFSETFROM:-0400
TZOFFSETTO:-0500
TZNAME:EST
DTSTART:20231105T060000
END:STANDARD
END:VTIMEZONE
BEGIN:VEVENT
DTSTART;TZID=America/New_York:20230718T150000
DTEND;TZID=America/New_York:20230830T180000
DTSTAMP:20260424T113121
CREATED:20230721T060049Z
LAST-MODIFIED:20230721T060049Z
UID:5097-1689692400-1693418400@programadistritaldegestionculturalcomunitaria.com
SUMMARY:Danza y Artesanía con Runakuri en Guayllabamba
DESCRIPTION:El Ballet Folcklórico Runa Kuri invita a sus cursos vacacionales de DANZA ANDINA\, ACROBALANCE Y PORCELANA FRÍA.
URL:https://programadistritaldegestionculturalcomunitaria.com/event/danza-y-artesania-con-runakuri-en-guayllabamba/
LOCATION:Centro Cultural Runa Kuri\, Guayllabamba\, Quito
CATEGORIES:Agenda,Eugenio Espejo
ATTACH;FMTTYPE=image/jpeg:https://programadistritaldegestionculturalcomunitaria.com/wp-content/uploads/2023/07/Runakuri-Curso-de-Verano-1.jpg
END:VEVENT
BEGIN:VEVENT
DTSTART;TZID=America/New_York:20230728T090000
DTEND;TZID=America/New_York:20230728T160000
DTSTAMP:20260424T113121
CREATED:20230721T171602Z
LAST-MODIFIED:20230721T171711Z
UID:5124-1690534800-1690560000@programadistritaldegestionculturalcomunitaria.com
SUMMARY:Encuentro de Comunicación Comunitaria
DESCRIPTION:
URL:https://programadistritaldegestionculturalcomunitaria.com/event/encuentro-de-comunicacion-comunitaria-2/
LOCATION:CIESPAL\, Diego de Almagro y Andrade Marín\, Quito\, Pichincha\, Ecuador
CATEGORIES:Agenda,Comunicacion y medios comunitarios,Eugenio Espejo
ATTACH;FMTTYPE=image/png:https://programadistritaldegestionculturalcomunitaria.com/wp-content/uploads/2023/07/Encuentro-de-Comunicacion-Comunitaria.png
END:VEVENT
BEGIN:VEVENT
DTSTART;TZID=America/New_York:20230728T170000
DTEND;TZID=America/New_York:20230728T170000
DTSTAMP:20260424T113121
CREATED:20230714T163207Z
LAST-MODIFIED:20230714T163314Z
UID:4794-1690563600-1690563600@programadistritaldegestionculturalcomunitaria.com
SUMMARY:El Secreto de la Luz | Puéllaro
DESCRIPTION:
URL:https://programadistritaldegestionculturalcomunitaria.com/event/el-secreto-de-la-luz-puellaro/
LOCATION:Casa Barrial de Puéllaro\, Puéllaro\, Quito
CATEGORIES:Agenda,Ciclo de Cine,Cine Comunitario,Eugenio Espejo
ATTACH;FMTTYPE=image/png:https://programadistritaldegestionculturalcomunitaria.com/wp-content/uploads/2023/07/El-Secreto-de-la-Luz-Eugenio-Espejo.png
END:VEVENT
END:VCALENDAR