BEGIN:VCALENDAR
VERSION:2.0
PRODID:-//Programa Distrital de Gestión Cultural Comunitaria - ECPv6.1.2.2//NONSGML v1.0//EN
CALSCALE:GREGORIAN
METHOD:PUBLISH
X-ORIGINAL-URL:https://programadistritaldegestionculturalcomunitaria.com
X-WR-CALDESC:Eventos para Programa Distrital de Gestión Cultural Comunitaria
REFRESH-INTERVAL;VALUE=DURATION:PT1H
X-Robots-Tag:noindex
X-PUBLISHED-TTL:PT1H
BEGIN:VTIMEZONE
TZID:America/New_York
BEGIN:DAYLIGHT
TZOFFSETFROM:-0500
TZOFFSETTO:-0400
TZNAME:EDT
DTSTART:20230312T070000
END:DAYLIGHT
BEGIN:STANDARD
TZOFFSETFROM:-0400
TZOFFSETTO:-0500
TZNAME:EST
DTSTART:20231105T060000
END:STANDARD
END:VTIMEZONE
BEGIN:VEVENT
DTSTART;TZID=America/New_York:20230921T150000
DTEND;TZID=America/New_York:20230921T180000
DTSTAMP:20260424T144444
CREATED:20230920T183546Z
LAST-MODIFIED:20230920T183546Z
UID:8061-1695308400-1695319200@programadistritaldegestionculturalcomunitaria.com
SUMMARY:ENCAE 2023: GESTAR - Taller danza para niños
DESCRIPTION:El Encuentro Comunitario de artes escenicas es organizado por el Colectivo Pan y Circo y La Casa barrial Pambachupa\, quienes desde hace 8 años vienen gestionando un encuentro que promueve la integración de arte\, comunidad y permacultura. Tendrán una extensa programación con sede en Quito\, Macas\, Guayaquil e Imbabura. \nEn Quito\, gracias al programa distrital tendremos las siguientes actividades. \n \n 
URL:https://programadistritaldegestionculturalcomunitaria.com/event/encae-2023-gestar-taller-danza-para-ninos/
LOCATION:Casa Somos Atucucho\, Ecuador
CATEGORIES:Agenda,Circulación Cultural,Eugenio Espejo,Formación
ATTACH;FMTTYPE=image/jpeg:https://programadistritaldegestionculturalcomunitaria.com/wp-content/uploads/2023/09/379407073_188747630916467_374954745537099746_n.jpg
ORGANIZER;CN="Escuela%20Popular%20y%20Centro%20Cultural%20%5BEPyCC%5D%20y%20Colectivo%20Art%C3%ADstico%20PANyCIRCO%20%5BPyC%5D":MAILTO:casabarrialpambachupa@gmail.com
END:VEVENT
BEGIN:VEVENT
DTSTART;TZID=America/New_York:20230922T150000
DTEND;TZID=America/New_York:20230922T180000
DTSTAMP:20260424T144444
CREATED:20230920T183909Z
LAST-MODIFIED:20230920T184246Z
UID:8071-1695394800-1695405600@programadistritaldegestionculturalcomunitaria.com
SUMMARY:ENCAE 2023: GESTAR - Taller de meditación ovárica
DESCRIPTION:El Encuentro Comunitario de artes escenicas es organizado por el Colectivo Pan y Circo y La Casa barrial Pambachupa\, quienes desde hace 8 años vienen gestionando un encuentro que promueve la integración de arte\, comunidad y permacultura. Tendrán una extensa programación con sede en Quito\, Macas\, Guayaquil e Imbabura. \nEn Quito\, gracias al programa distrital tendremos las siguientes actividades.
URL:https://programadistritaldegestionculturalcomunitaria.com/event/encae-2023-gestar-taller-de-meditacion-ovarica/
LOCATION:Casa Somos Atucucho\, Ecuador
CATEGORIES:Agenda,Circulación Cultural,Eugenio Espejo,Formación
ATTACH;FMTTYPE=image/jpeg:https://programadistritaldegestionculturalcomunitaria.com/wp-content/uploads/2023/09/379408521_188747634249800_3809224592045022076_n-1.jpg
ORGANIZER;CN="Escuela%20Popular%20y%20Centro%20Cultural%20%5BEPyCC%5D%20y%20Colectivo%20Art%C3%ADstico%20PANyCIRCO%20%5BPyC%5D":MAILTO:casabarrialpambachupa@gmail.com
END:VEVENT
BEGIN:VEVENT
DTSTART;TZID=America/New_York:20230923T100000
DTEND;TZID=America/New_York:20230923T150000
DTSTAMP:20260424T144444
CREATED:20230920T184917Z
LAST-MODIFIED:20230920T184918Z
UID:8073-1695463200-1695481200@programadistritaldegestionculturalcomunitaria.com
SUMMARY:ENCAE 2023: GESTAR - Feria y arte en Guayllabamba
DESCRIPTION:El Encuentro Comunitario de artes escenicas es organizado por el Colectivo Pan y Circo y La Casa barrial Pambachupa\, quienes desde hace 8 años vienen gestionando un encuentro que promueve la integración de arte\, comunidad y permacultura. Tendrán una extensa programación con sede en Quito\, Macas\, Guayaquil e Imbabura. \nEn Quito\, gracias al programa distrital tendremos las siguientes actividades.
URL:https://programadistritaldegestionculturalcomunitaria.com/event/encae-2023-gestar-feria-y-arte-en-guayllabamba/
LOCATION:Parque del Guambra Guayllabamba\, Av. Simón Bolívar y Calle el Aguacate\, Quito\, Ecuador
CATEGORIES:Agenda,Circulación Cultural,Eugenio Espejo
ATTACH;FMTTYPE=image/jpeg:https://programadistritaldegestionculturalcomunitaria.com/wp-content/uploads/2023/09/7da64395-a5f9-4366-b8c5-ed2b4b1682d2.jpg
ORGANIZER;CN="Escuela%20Popular%20y%20Centro%20Cultural%20%5BEPyCC%5D%20y%20Colectivo%20Art%C3%ADstico%20PANyCIRCO%20%5BPyC%5D":MAILTO:casabarrialpambachupa@gmail.com
END:VEVENT
BEGIN:VEVENT
DTSTART;TZID=America/New_York:20230924T080000
DTEND;TZID=America/New_York:20230924T150000
DTSTAMP:20260424T144444
CREATED:20230726T001802Z
LAST-MODIFIED:20230920T030816Z
UID:5381-1695542400-1695567600@programadistritaldegestionculturalcomunitaria.com
SUMMARY:Diálogos Territoriales LA MARISCAL
DESCRIPTION:
URL:https://programadistritaldegestionculturalcomunitaria.com/event/dialogos-territoriales-la-mariscal-2/
LOCATION:Nodo Cultural Sucrearte\, Juan León mera y Cordero\, Quito\, Pichincha\, Ecuador
CATEGORIES:Agenda,Eugenio Espejo,Investigación y Cartografía
ATTACH;FMTTYPE=image/jpeg:https://programadistritaldegestionculturalcomunitaria.com/wp-content/uploads/2023/07/WhatsApp-Image-2023-09-12-at-06.15.56.jpeg
END:VEVENT
BEGIN:VEVENT
DTSTART;TZID=America/New_York:20230924T090000
DTEND;TZID=America/New_York:20230924T140000
DTSTAMP:20260424T144444
CREATED:20230920T210227Z
LAST-MODIFIED:20230920T210458Z
UID:8076-1695546000-1695564000@programadistritaldegestionculturalcomunitaria.com
SUMMARY:ENCAE 2023: Gestar - Minga y siembra en La Comuna
DESCRIPTION:El Encuentro Comunitario de Artes Escenicas es organizado por el Colectivo Pan y Circo y La Casa barrial Pambachupa\, quienes desde hace 8 años vienen gestionando un encuentro que promueve la integración de arte\, comunidad y permacultura. Tendrán una extensa programación con sede en Quito\, Macas\, Guayaquil e Imbabura. \nEn Quito\, gracias al programa distrital tendremos las siguientes actividades.
URL:https://programadistritaldegestionculturalcomunitaria.com/event/encae-2023-gestar-miengra-y-siembra-en-la-comuna/
LOCATION:Cancha de voley Belisario Quevedo\, José Birrutieta y Antonio Herrera\, Quito\, Ecuador
CATEGORIES:Agenda,Circulación Cultural,Eugenio Espejo,Formación
ATTACH;FMTTYPE=image/jpeg:https://programadistritaldegestionculturalcomunitaria.com/wp-content/uploads/2023/09/379030911_188747627583134_9181610790319992389_n.jpg
ORGANIZER;CN="Escuela%20Popular%20y%20Centro%20Cultural%20%5BEPyCC%5D%20y%20Colectivo%20Art%C3%ADstico%20PANyCIRCO%20%5BPyC%5D":MAILTO:casabarrialpambachupa@gmail.com
END:VEVENT
BEGIN:VEVENT
DTSTART;TZID=America/New_York:20230924T153000
DTEND;TZID=America/New_York:20230924T170000
DTSTAMP:20260424T144444
CREATED:20230920T224921Z
LAST-MODIFIED:20230920T224921Z
UID:8105-1695569400-1695574800@programadistritaldegestionculturalcomunitaria.com
SUMMARY:Jardín Colgante en Nayon
DESCRIPTION:El Centro Cultural Nayón\, realiza la toma del espacio público en el Baiolódromo o Parque Central con Jardín Colgante un domingo al mes\, una propuesta pararealzar el turismo y la cultura local.
URL:https://programadistritaldegestionculturalcomunitaria.com/event/jardin-colgante-en-nayon/
LOCATION:Bailódromo Nayón\, Pichincha\, Ecuador
CATEGORIES:Agenda,Circulación Cultural,Eugenio Espejo,Ruralidad
ATTACH;FMTTYPE=image/jpeg:https://programadistritaldegestionculturalcomunitaria.com/wp-content/uploads/2023/09/376869525_818612763602873_5273404228431198881_n.jpg
ORGANIZER;CN="Centro%20Cultural%20Nay%C3%B3n":MAILTO:ccnayon@gmail.com
END:VEVENT
END:VCALENDAR