BEGIN:VCALENDAR
VERSION:2.0
PRODID:-//Programa Distrital de Gestión Cultural Comunitaria - ECPv6.1.2.2//NONSGML v1.0//EN
CALSCALE:GREGORIAN
METHOD:PUBLISH
X-WR-CALNAME:Programa Distrital de Gestión Cultural Comunitaria
X-ORIGINAL-URL:https://programadistritaldegestionculturalcomunitaria.com
X-WR-CALDESC:Eventos para Programa Distrital de Gestión Cultural Comunitaria
REFRESH-INTERVAL;VALUE=DURATION:PT1H
X-Robots-Tag:noindex
X-PUBLISHED-TTL:PT1H
BEGIN:VTIMEZONE
TZID:America/New_York
BEGIN:DAYLIGHT
TZOFFSETFROM:-0500
TZOFFSETTO:-0400
TZNAME:EDT
DTSTART:20230312T070000
END:DAYLIGHT
BEGIN:STANDARD
TZOFFSETFROM:-0400
TZOFFSETTO:-0500
TZNAME:EST
DTSTART:20231105T060000
END:STANDARD
END:VTIMEZONE
BEGIN:VEVENT
DTSTART;TZID=America/New_York:20230712T120000
DTEND;TZID=America/New_York:20230712T120000
DTSTAMP:20260424T113107
CREATED:20230711T181520Z
LAST-MODIFIED:20230711T194137Z
UID:4531-1689163200-1689163200@programadistritaldegestionculturalcomunitaria.com
SUMMARY:Cine: Semillas de Lucha
DESCRIPTION:Cine: Semillas de Lucha
URL:https://programadistritaldegestionculturalcomunitaria.com/event/cine-semillas-de-lucha/
LOCATION:Casa Comunal La Toglla\, Comunidad La Toglla (Guangopolo)\, Quito
CATEGORIES:Agenda,Ciclo de Cine,Cine Comunitario,Comunicacion y medios comunitarios,Valle de los Chillos
ATTACH;FMTTYPE=image/png:https://programadistritaldegestionculturalcomunitaria.com/wp-content/uploads/2023/07/Destellos-de-Comunidad-III-admin-zonal-Los-Chillos-12-de-julio-1.png
ORGANIZER;CN="Arbol%20de%20Amauta":MAILTO:jcs.2581@hotmail.com
END:VEVENT
BEGIN:VEVENT
DTSTART;TZID=America/New_York:20230715T140000
DTEND;TZID=America/New_York:20230715T190000
DTSTAMP:20260424T113107
CREATED:20230711T023701Z
LAST-MODIFIED:20230714T132541Z
UID:4528-1689429600-1689447600@programadistritaldegestionculturalcomunitaria.com
SUMMARY:SUBTERRÁNEO HIP-HOP / Concierto + Capítulo 1 | Sector La Y
DESCRIPTION:Un Cypher grabado en vivo de los elementos del Hip-Hop\, Los mejores representantes del el rap\, breaking\, graffiti\, DJ\, proponiendo una producción de varios capitulos con artistas invitados que promueven en hip hop para la paz. Este sábado 15 de Julio se lanza el primer capítul de SUBTERRÁNEO realizado por Chakana producciones. \nAporte sugerido: $2\,00
URL:https://programadistritaldegestionculturalcomunitaria.com/event/subterraneo-hip-hop-concierto-capitulo-1/
LOCATION:El Búnker\, Av. La Prensa y Av. America (Sector la Y)\, Quito
CATEGORIES:Agenda,Circulación Cultural,Comunicacion y medios comunitarios,Eugenio Espejo
ATTACH;FMTTYPE=image/jpeg:https://programadistritaldegestionculturalcomunitaria.com/wp-content/uploads/2023/07/WhatsApp-Image-2023-07-10-at-10.46.44.jpeg
ORGANIZER;CN="Chakana%20producciones%20-%20Subterr%C3%A1neo%20593":MAILTO:sheilozada87@gmail.com
END:VEVENT
BEGIN:VEVENT
DTSTART;TZID=America/New_York:20230721T200000
DTEND;TZID=America/New_York:20230721T233423
DTSTAMP:20260424T113107
CREATED:20230721T233251Z
LAST-MODIFIED:20230721T233423Z
UID:5221-1689969600-1689982463@programadistritaldegestionculturalcomunitaria.com
SUMMARY:Neuronas al aire
DESCRIPTION:
URL:https://programadistritaldegestionculturalcomunitaria.com/event/neuronas-al-aire/
LOCATION:Redes Sociales: Instagram
CATEGORIES:Agenda,Calderón,Comunicacion y medios comunitarios
ATTACH;FMTTYPE=image/jpeg:https://programadistritaldegestionculturalcomunitaria.com/wp-content/uploads/2023/07/5898b36a-1fd0-48b4-b415-8646a8447aa1.jpg
END:VEVENT
BEGIN:VEVENT
DTSTART;TZID=America/New_York:20230727T090000
DTEND;TZID=America/New_York:20230727T160000
DTSTAMP:20260424T113107
CREATED:20230721T171304Z
LAST-MODIFIED:20230721T171357Z
UID:5118-1690448400-1690473600@programadistritaldegestionculturalcomunitaria.com
SUMMARY:Encuentro de Comunicación Comunitaria
DESCRIPTION:
URL:https://programadistritaldegestionculturalcomunitaria.com/event/encuentro-de-comunicacion-comunitaria/
LOCATION:CIESPAL\, Diego de Almagro y Andrade Marín\, Quito\, Pichincha\, Ecuador
CATEGORIES:Agenda,Comunicacion y medios comunitarios,Eugenio Espejo
ATTACH;FMTTYPE=image/png:https://programadistritaldegestionculturalcomunitaria.com/wp-content/uploads/2023/07/Encuentro-de-Comunicacion-Comunitaria.png
END:VEVENT
BEGIN:VEVENT
DTSTART;TZID=America/New_York:20230727T200000
DTEND;TZID=America/New_York:20230727T200000
DTSTAMP:20260424T113107
CREATED:20230721T235822Z
LAST-MODIFIED:20230724T224150Z
UID:5227-1690488000-1690488000@programadistritaldegestionculturalcomunitaria.com
SUMMARY:Nuestras Raíces Culturales
DESCRIPTION:
URL:https://programadistritaldegestionculturalcomunitaria.com/event/nuestras-raices-culturales/
LOCATION:Facebook Live
CATEGORIES:Agenda,Comunicacion y medios comunitarios,Valle de los Chillos
ATTACH;FMTTYPE=image/png:https://programadistritaldegestionculturalcomunitaria.com/wp-content/uploads/2023/07/Artes-Cine.png
END:VEVENT
BEGIN:VEVENT
DTSTART;TZID=America/New_York:20230728T090000
DTEND;TZID=America/New_York:20230728T160000
DTSTAMP:20260424T113107
CREATED:20230721T171602Z
LAST-MODIFIED:20230721T171711Z
UID:5124-1690534800-1690560000@programadistritaldegestionculturalcomunitaria.com
SUMMARY:Encuentro de Comunicación Comunitaria
DESCRIPTION:
URL:https://programadistritaldegestionculturalcomunitaria.com/event/encuentro-de-comunicacion-comunitaria-2/
LOCATION:CIESPAL\, Diego de Almagro y Andrade Marín\, Quito\, Pichincha\, Ecuador
CATEGORIES:Agenda,Comunicacion y medios comunitarios,Eugenio Espejo
ATTACH;FMTTYPE=image/png:https://programadistritaldegestionculturalcomunitaria.com/wp-content/uploads/2023/07/Encuentro-de-Comunicacion-Comunitaria.png
END:VEVENT
END:VCALENDAR