BEGIN:VCALENDAR
VERSION:2.0
PRODID:-//Programa Distrital de Gestión Cultural Comunitaria - ECPv6.1.2.2//NONSGML v1.0//EN
CALSCALE:GREGORIAN
METHOD:PUBLISH
X-WR-CALNAME:Programa Distrital de Gestión Cultural Comunitaria
X-ORIGINAL-URL:https://programadistritaldegestionculturalcomunitaria.com
X-WR-CALDESC:Eventos para Programa Distrital de Gestión Cultural Comunitaria
REFRESH-INTERVAL;VALUE=DURATION:PT1H
X-Robots-Tag:noindex
X-PUBLISHED-TTL:PT1H
BEGIN:VTIMEZONE
TZID:America/New_York
BEGIN:DAYLIGHT
TZOFFSETFROM:-0500
TZOFFSETTO:-0400
TZNAME:EDT
DTSTART:20230312T070000
END:DAYLIGHT
BEGIN:STANDARD
TZOFFSETFROM:-0400
TZOFFSETTO:-0500
TZNAME:EST
DTSTART:20231105T060000
END:STANDARD
END:VTIMEZONE
BEGIN:VEVENT
DTSTART;TZID=America/New_York:20230901T100000
DTEND;TZID=America/New_York:20230902T170000
DTSTAMP:20260424T220721
CREATED:20230830T162012Z
LAST-MODIFIED:20230831T235246Z
UID:7224-1693562400-1693674000@programadistritaldegestionculturalcomunitaria.com
SUMMARY:40 animersario LUCHA DE LOS POBRES
DESCRIPTION:La Ex Cooperativa y Barrio Lucha los Pobres celebra su 40 aniversario con un evento cultural\, comunitario y deportivo\, que tendrá lugar este viernes 1 desde las 17h00 conversatorio y cine y sábado 2 de Septiembre delsde las 10h00 feria y musica dewsde las 14h00. Este año\, por iniciativa de varios dirigentes del barrio\, colectivos del Sur de Quito\, el apoyo del Programa Distrital de Gestión Cultural Comunitaria y Cultura Viva Comunitaria Ecuador\, se han preparado varios eventos conmemorativos bajo el lema ¡¡¡VOLVAMOS A LA LUCHA!!! AHI NOS VEMOS!!!! \n  \n#MenosViolenciaMasCultura #SecretariaDeCultura #QuitoCultura #CulturaVivaComunitaria #EducacionPopular\n#ProgramaDistritalDeGestionCulturalComunitaria #BarriosVivos ##OrdenanzadeCulturaVivaComunitaria #SerComunitario
URL:https://programadistritaldegestionculturalcomunitaria.com/event/40-animersario-lucha-de-los-pobres/
CATEGORIES:Agenda,Circulación Cultural,Eloy Alfaro
ATTACH;FMTTYPE=image/jpeg:https://programadistritaldegestionculturalcomunitaria.com/wp-content/uploads/2023/08/40-AFICHE-LUCHA.jpg
END:VEVENT
BEGIN:VEVENT
DTSTART;TZID=America/New_York:20230902T160000
DTEND;TZID=America/New_York:20230902T180000
DTSTAMP:20260424T220721
CREATED:20230817T165229Z
LAST-MODIFIED:20230831T234830Z
UID:6388-1693670400-1693677600@programadistritaldegestionculturalcomunitaria.com
SUMMARY:Festival de Anti-Poesia
DESCRIPTION:Festival de anti poesía Fiesta de la poesía y las artes vivas. \nEspacios lúdicos\, video-arte\, música en vivo\, subasta poética\, microfomno abierto\, feria artesanal\, postre\, bebidas y más. \nCEntro cultural Santa Inés (Chillogallo calle Marcos Escorza Oe10-102)\nViernes 02 septiembre 16:00 \n#MenosViolenciaMasCultura #SecretariaDeCultura #QuitoCultura #CulturaVivaComunitaria #EducacionPopular\n#ProgramaDistritalDeGestionCulturalComunitaria #BarriosVivos ##OrdenanzadeCulturaVivaComunitaria #SerComunitario
URL:https://programadistritaldegestionculturalcomunitaria.com/event/festival-de-anti-poesia-2/
LOCATION:Centro de Arte Santa Inés\, Chillogallo\, Quito
CATEGORIES:Agenda,Circulación Cultural,Quitumbe
ATTACH;FMTTYPE=image/jpeg:https://programadistritaldegestionculturalcomunitaria.com/wp-content/uploads/2023/08/a939f63f-78bd-4825-8441-ec0ed4048096-1.jpg
END:VEVENT
END:VCALENDAR