BEGIN:VCALENDAR
VERSION:2.0
PRODID:-//Programa Distrital de Gestión Cultural Comunitaria - ECPv6.1.2.2//NONSGML v1.0//EN
CALSCALE:GREGORIAN
METHOD:PUBLISH
X-ORIGINAL-URL:https://programadistritaldegestionculturalcomunitaria.com
X-WR-CALDESC:Eventos para Programa Distrital de Gestión Cultural Comunitaria
REFRESH-INTERVAL;VALUE=DURATION:PT1H
X-Robots-Tag:noindex
X-PUBLISHED-TTL:PT1H
BEGIN:VTIMEZONE
TZID:America/New_York
BEGIN:DAYLIGHT
TZOFFSETFROM:-0500
TZOFFSETTO:-0400
TZNAME:EDT
DTSTART:20230312T070000
END:DAYLIGHT
BEGIN:STANDARD
TZOFFSETFROM:-0400
TZOFFSETTO:-0500
TZNAME:EST
DTSTART:20231105T060000
END:STANDARD
END:VTIMEZONE
BEGIN:VEVENT
DTSTART;TZID=America/New_York:20230715T140000
DTEND;TZID=America/New_York:20230715T190000
DTSTAMP:20260424T170637
CREATED:20230711T023701Z
LAST-MODIFIED:20230714T132541Z
UID:4528-1689429600-1689447600@programadistritaldegestionculturalcomunitaria.com
SUMMARY:SUBTERRÁNEO HIP-HOP / Concierto + Capítulo 1 | Sector La Y
DESCRIPTION:Un Cypher grabado en vivo de los elementos del Hip-Hop\, Los mejores representantes del el rap\, breaking\, graffiti\, DJ\, proponiendo una producción de varios capitulos con artistas invitados que promueven en hip hop para la paz. Este sábado 15 de Julio se lanza el primer capítul de SUBTERRÁNEO realizado por Chakana producciones. \nAporte sugerido: $2\,00
URL:https://programadistritaldegestionculturalcomunitaria.com/event/subterraneo-hip-hop-concierto-capitulo-1/
LOCATION:El Búnker\, Av. La Prensa y Av. America (Sector la Y)\, Quito
CATEGORIES:Agenda,Circulación Cultural,Comunicacion y medios comunitarios,Eugenio Espejo
ATTACH;FMTTYPE=image/jpeg:https://programadistritaldegestionculturalcomunitaria.com/wp-content/uploads/2023/07/WhatsApp-Image-2023-07-10-at-10.46.44.jpeg
ORGANIZER;CN="Chakana%20producciones%20-%20Subterr%C3%A1neo%20593":MAILTO:sheilozada87@gmail.com
END:VEVENT
BEGIN:VEVENT
DTSTART;TZID=America/New_York:20230721T080000
DTEND;TZID=America/New_York:20230721T170000
DTSTAMP:20260424T170637
CREATED:20230721T190529Z
LAST-MODIFIED:20230721T190529Z
UID:5147-1689926400-1689958800@programadistritaldegestionculturalcomunitaria.com
SUMMARY:Ecoferia Calderón
DESCRIPTION:Barrio Calderón \nSábado 28\,29 y 30 de julio 2023 \n9h00 a 16h00 \nEsta actividad podrás encontrar\, feria de emprendimientos\, danza y música en vivo
URL:https://programadistritaldegestionculturalcomunitaria.com/event/ecoferia-calderon/
CATEGORIES:Agenda,Calderón,Circulación Cultural
ATTACH;FMTTYPE=image/jpeg:https://programadistritaldegestionculturalcomunitaria.com/wp-content/uploads/2023/07/WhatsApp-Image-2023-07-21-at-13.48.19-1.jpeg
END:VEVENT
BEGIN:VEVENT
DTSTART;TZID=America/New_York:20230722T090000
DTEND;TZID=America/New_York:20230722T160000
DTSTAMP:20260424T170637
CREATED:20230721T184229Z
LAST-MODIFIED:20230721T185255Z
UID:5140-1690016400-1690041600@programadistritaldegestionculturalcomunitaria.com
SUMMARY:Ecoferia
DESCRIPTION:Comuna Santa Anita \nSábado 22 de julio 2023 \nEsta actividad podrás encontrar\, feria de emprendimientos\, danza y música en vivo \n 
URL:https://programadistritaldegestionculturalcomunitaria.com/event/ecoferia/
LOCATION:Comuna Santa Anita\, Santa Anita\, Pichincha\, Quito\, Pichincha\, Ecuador
CATEGORIES:Agenda,Calderón,Circulación Cultural
ATTACH;FMTTYPE=image/jpeg:https://programadistritaldegestionculturalcomunitaria.com/wp-content/uploads/2023/07/WhatsApp-Image-2023-07-21-at-13.48.19.jpeg
ORGANIZER;CN="CORPORACION%20CULTURAL%20INTIPAK%20CHURI":MAILTO:egwil@hotmail.com
END:VEVENT
BEGIN:VEVENT
DTSTART;TZID=America/New_York:20230722T100000
DTEND;TZID=America/New_York:20230722T100000
DTSTAMP:20260424T170637
CREATED:20230721T232407Z
LAST-MODIFIED:20230721T232454Z
UID:5216-1690020000-1690020000@programadistritaldegestionculturalcomunitaria.com
SUMMARY:Feria Ferroviaria Unida Renace II
DESCRIPTION:
URL:https://programadistritaldegestionculturalcomunitaria.com/event/feria-ferroviaria-unida-renace-ii/
LOCATION:Parque 17 de julio\, La Redonda\, Ferroviaria\, Quito\, Pichincha\, Ecuador
CATEGORIES:Agenda,Circulación Cultural,Eloy Alfaro
ATTACH;FMTTYPE=image/jpeg:https://programadistritaldegestionculturalcomunitaria.com/wp-content/uploads/2023/07/615ef2f4-836f-469f-afb9-0b27b285030b.jpg
END:VEVENT
BEGIN:VEVENT
DTSTART;TZID=America/New_York:20230729T100000
DTEND;TZID=America/New_York:20230729T150000
DTSTAMP:20260424T170637
CREATED:20230721T222718Z
LAST-MODIFIED:20230721T222718Z
UID:5188-1690624800-1690642800@programadistritaldegestionculturalcomunitaria.com
SUMMARY:Ultravandal Caligrafía Urbana #1
DESCRIPTION:Ultravaldal Pro invita a jóvenes amantes d ela cultura urbana a demostración y competencia de caligrafía urbana. Habrá premios a los tags destacados!!
URL:https://programadistritaldegestionculturalcomunitaria.com/event/ultravandal-caligrafia-urbana-1/
LOCATION:Plataforma Gubernamental Quitumbe\, Av. Quitumbe Ñan y Av. Amaru Ñan\, QUITO\, Pichincha\, 170146\, Ecuador
CATEGORIES:Agenda,Circulación Cultural,Quitumbe
ATTACH;FMTTYPE=image/jpeg:https://programadistritaldegestionculturalcomunitaria.com/wp-content/uploads/2023/07/WhatsApp-Image-2023-07-21-at-5.16.28-PM.jpeg
ORGANIZER;CN="Ultra%20Vandal":MAILTO:martinlopezcevallos@gmail.com
END:VEVENT
END:VCALENDAR